BEGIN:VCALENDAR
VERSION:2.0
PRODID:icalendar-ruby
CALSCALE:GREGORIAN
METHOD:PUBLISH
BEGIN:VEVENT
DTSTAMP:20260424T210314Z
UID:40-1935834@redeemerlutherangreer.com
DTSTART:20261014T220000Z
DTEND:20261015T000000Z
CLASS:PUBLIC
CREATED:20260424T161356
DESCRIPTION:
LAST-MODIFIED:20260424T161356
LOCATION:
SUMMARY:Choir Practice
URL;VALUE=URI:https://www.redeemerlutherangreer.com/events/choir-practice/2
 026-10-14
ATTACH;FILENAME=music_av-01.jpg;FMTTYPE=image/jpeg:https://dq5pwpg1q8ru0.cl
 oudfront.net/2023/04/21/17/46/42/13177e6f-f37d-4aee-92a0-eaa07f9cea7f/musi
 c_av-01.jpg
END:VEVENT
END:VCALENDAR
