BEGIN:VCALENDAR
VERSION:2.0
PRODID:icalendar-ruby
CALSCALE:GREGORIAN
METHOD:PUBLISH
BEGIN:VEVENT
DTSTAMP:20260423T132203Z
UID:162-1586113@redeemerlutherangreer.com
DTSTART;VALUE=DATE:20260621
DTEND;VALUE=DATE:20260626
CLASS:PUBLIC
CREATED:20260305T155926
DESCRIPTION:Registration information is included in graphics.
LAST-MODIFIED:20260305T155926
LOCATION:
SUMMARY:Confirmation Camp
URL;VALUE=URI:https://www.redeemerlutherangreer.com/events/confirmation-cam
 p/2026-06-21
ATTACH;FILENAME=IMG_3660.jpeg;FMTTYPE=image/jpeg:https://dq5pwpg1q8ru0.clou
 dfront.net/2026/03/05/20/59/25/ce6d777d-3f0c-4f5f-bc97-ab9ac14e0844/IMG_36
 60.jpeg
END:VEVENT
END:VCALENDAR
