BEGIN:VCALENDAR
VERSION:2.0
PRODID:icalendar-ruby
CALSCALE:GREGORIAN
METHOD:PUBLISH
BEGIN:VEVENT
DTSTAMP:20260423T132418Z
UID:141-1579193@redeemerlutherangreer.com
DTSTART:20260520T160000Z
DTEND:20260520T180000Z
CLASS:PUBLIC
CREATED:20260304T155404
DESCRIPTION:Join us as we enjoy lunch together followed by a visit to the U
 pstate History Museum.
LAST-MODIFIED:20260304T155404
LOCATION:
SUMMARY:Evergreen Club
URL;VALUE=URI:https://www.redeemerlutherangreer.com/events/evergreen-club--
 141/2026-05-20
ATTACH;FILENAME=IMG_2270.jpeg;FMTTYPE=image/jpeg:https://dq5pwpg1q8ru0.clou
 dfront.net/2026/02/20/21/16/47/f9aa34ee-cdab-402e-b8aa-5472eb919226/IMG_22
 70.jpeg
END:VEVENT
END:VCALENDAR
