BEGIN:VCALENDAR
VERSION:2.0
PRODID:icalendar-ruby
CALSCALE:GREGORIAN
METHOD:PUBLISH
BEGIN:VEVENT
DTSTAMP:20260423T132255Z
UID:169-1738342@redeemerlutherangreer.com
DTSTART;VALUE=DATE:20260621
DTEND;VALUE=DATE:20260621
CLASS:PUBLIC
CREATED:20260327T150146
DESCRIPTION:
LAST-MODIFIED:20260327T150146
LOCATION:
SUMMARY:Happy Father's Day
URL;VALUE=URI:https://www.redeemerlutherangreer.com/events/happy-fathers-da
 y/2026-06-21
END:VEVENT
END:VCALENDAR
