BEGIN:VCALENDAR
VERSION:2.0
PRODID:icalendar-ruby
CALSCALE:GREGORIAN
METHOD:PUBLISH
BEGIN:VEVENT
DTSTAMP:20260425T140520Z
UID:30-1938986@redeemerlutherangreer.com
DTSTART:20261103T230000Z
DTEND:20261104T003000Z
CLASS:PUBLIC
CREATED:20260425T073654
DESCRIPTION:
LAST-MODIFIED:20260425T073654
LOCATION:
SUMMARY:HOLY YOGA
URL;VALUE=URI:https://www.redeemerlutherangreer.com/events/holy-yoga/2026-1
 1-03
ATTACH;FILENAME=holy-yoga-training-1.jpg;FMTTYPE=image/jpeg:https://dq5pwpg
 1q8ru0.cloudfront.net/2022/12/20/08/58/54/92db1344-5783-4a79-af3e-1999cbcb
 cf82/holy-yoga-training-1.jpg
END:VEVENT
END:VCALENDAR
