BEGIN:VCALENDAR
VERSION:2.0
PRODID:icalendar-ruby
CALSCALE:GREGORIAN
METHOD:PUBLISH
BEGIN:VEVENT
DTSTAMP:20260424T153549Z
UID:6-1932870@redeemerlutherangreer.com
DTSTART:20260920T140000Z
DTEND:20260920T151500Z
CLASS:PUBLIC
CREATED:20260424T103914
DESCRIPTION:SUNDAY WORSHIP
LAST-MODIFIED:20260424T103914
LOCATION:
SUMMARY:SUNDAY WORSHIP
URL;VALUE=URI:https://www.redeemerlutherangreer.com/events/sunday-worship/2
 026-09-20
ATTACH;FILENAME=Confirmation-Sunday-2025.jpg;FMTTYPE=image/jpeg:https://dq5
 pwpg1q8ru0.cloudfront.net/2025/11/07/23/35/42/d2599542-4d7b-48ff-8923-b780
 108f3da9/Confirmation-Sunday-2025.jpg
END:VEVENT
END:VCALENDAR
