BEGIN:VCALENDAR
VERSION:2.0
PRODID:icalendar-ruby
CALSCALE:GREGORIAN
METHOD:PUBLISH
BEGIN:VEVENT
DTSTAMP:20260425T001542Z
UID:6-1936422@redeemerlutherangreer.com
DTSTART:20261101T150000Z
DTEND:20261101T161500Z
CLASS:PUBLIC
CREATED:20260424T190141
DESCRIPTION:SUNDAY WORSHIP
LAST-MODIFIED:20260424T190141
LOCATION:
SUMMARY:SUNDAY WORSHIP
URL;VALUE=URI:https://www.redeemerlutherangreer.com/events/sunday-worship/2
 026-11-01
ATTACH;FILENAME=Confirmation-Sunday-2025.jpg;FMTTYPE=image/jpeg:https://dq5
 pwpg1q8ru0.cloudfront.net/2025/11/07/23/35/42/d2599542-4d7b-48ff-8923-b780
 108f3da9/Confirmation-Sunday-2025.jpg
END:VEVENT
END:VCALENDAR
