BEGIN:VCALENDAR
VERSION:2.0
PRODID:icalendar-ruby
CALSCALE:GREGORIAN
METHOD:PUBLISH
BEGIN:VEVENT
DTSTAMP:20260423T221306Z
UID:45-1929110@redeemerlutherangreer.com
DTSTART:20260617T140000Z
DTEND:20260617T160000Z
CLASS:PUBLIC
CREATED:20260423T162950
DESCRIPTION:
LAST-MODIFIED:20260423T162950
LOCATION:
SUMMARY:Wednesday Word Bible Study
URL;VALUE=URI:https://www.redeemerlutherangreer.com/events/wednesday-word-b
 ible-study/2026-06-17
ATTACH;FILENAME=bible_crosses-27.jpg;FMTTYPE=image/jpeg:https://dq5pwpg1q8r
 u0.cloudfront.net/2023/04/21/18/10/26/7629a708-ec1e-4e35-b413-af22431e0328
 /bible_crosses-27.jpg
END:VEVENT
END:VCALENDAR
